BEGIN:VCALENDAR
VERSION:2.0
PRODID:calendify.com
BEGIN:VEVENT
UID:calendify-session-0WXOBAn54Pk
DTSTART:20220724T190000Z
SEQUENCE:0
TRANSP:OPAQUE
DTEND:20220724T213000Z
URL:https://calendify.com/session/0WXOBAn54Pk
LOCATION:Battery 🔋
SUMMARY:public showing of the 4 part series \"ze weten alles van je\"
CLASS:PUBLIC
DESCRIPTION:https://calendify.com/session/0WXOBAn54Pk
DTSTAMP:20260423T203437Z
CREATED:20220717T200138Z
LAST-MODIFIED:20220726T182703Z
END:VEVENT
END:VCALENDAR