BEGIN:VCALENDAR
VERSION:2.0
PRODID:calendify.com
BEGIN:VEVENT
UID:calendify-session-0WXOBRLbOPk
DTSTART:20210308T133000Z
SEQUENCE:0
TRANSP:OPAQUE
URL:https://calendify.com/session/0WXOBRLbOPk
LOCATION:Art and Media
SUMMARY:Exploring sketchnoting as a way of communicating ideas around neuro
 diversity
CLASS:PUBLIC
DESCRIPTION:https://calendify.com/session/0WXOBRLbOPk
DTSTAMP:20260420T215601Z
CREATED:20210426T094927Z
LAST-MODIFIED:20210426T094927Z
END:VEVENT
END:VCALENDAR