BEGIN:VCALENDAR
VERSION:2.0
PRODID:calendify.com
BEGIN:VEVENT
UID:calendify-session-0WXOBRZNOPk
DTSTART:20211227T103000Z
SEQUENCE:0
TRANSP:OPAQUE
DTEND:20211227T110000Z
URL:https://calendify.com/session/0WXOBRZNOPk
LOCATION:ChaosZone TV
SUMMARY:ChaosZone TV Opening
CLASS:PUBLIC
DESCRIPTION:https://calendify.com/session/0WXOBRZNOPk
DTSTAMP:20260423T150812Z
CREATED:20211220T014016Z
LAST-MODIFIED:20211230T225002Z
END:VEVENT
END:VCALENDAR