BEGIN:VCALENDAR
VERSION:2.0
PRODID:calendify.com
BEGIN:VEVENT
UID:calendify-session-0WXOBRelOPk
DTSTART:20210311T181500Z
SEQUENCE:0
TRANSP:OPAQUE
DTEND:20210311T191500Z
URL:https://calendify.com/session/0WXOBRelOPk
LOCATION:Zoom Room 2B
SUMMARY:Operationalizing AI Ethics
CLASS:PUBLIC
DESCRIPTION:https://calendify.com/session/0WXOBRelOPk
DTSTAMP:20260420T171843Z
CREATED:20210426T094927Z
LAST-MODIFIED:20210426T094927Z
END:VEVENT
END:VCALENDAR