BEGIN:VCALENDAR
VERSION:2.0
PRODID:calendify.com
BEGIN:VEVENT
UID:calendify-session-0WXOBVQNOPk
DTSTART:20200201T112500Z
SEQUENCE:0
TRANSP:OPAQUE
DTEND:20200201T121500Z
URL:https://calendify.com/session/0WXOBVQNOPk
LOCATION:UB2.147
SUMMARY:OpenQA with the JDP data analyses framework
CLASS:PUBLIC
DESCRIPTION:https://calendify.com/session/0WXOBVQNOPk
DTSTAMP:20260424T003417Z
CREATED:20200513T234730Z
LAST-MODIFIED:20210426T093308Z
END:VEVENT
END:VCALENDAR