BEGIN:VCALENDAR
VERSION:2.0
PRODID:calendify.com
BEGIN:VEVENT
UID:calendify-session-0WXOBVZROPk
DTSTART:20180512T190000Z
SEQUENCE:0
TRANSP:OPAQUE
DTEND:20180512T200000Z
URL:https://calendify.com/session/0WXOBVZROPk
LOCATION:ZKM_Vortragssaal
SUMMARY:Linux Network Namespaces vs. VRFs
CLASS:PUBLIC
DESCRIPTION:https://calendify.com/session/0WXOBVZROPk
DTSTAMP:20260422T015228Z
CREATED:20200513T011828Z
LAST-MODIFIED:20200513T011828Z
END:VEVENT
END:VCALENDAR