BEGIN:VCALENDAR
VERSION:2.0
PRODID:calendify.com
BEGIN:VEVENT
UID:calendify-session-0WXOBVllOPk
DTSTART:20200202T093000Z
SEQUENCE:0
TRANSP:OPAQUE
DTEND:20200202T095500Z
URL:https://calendify.com/session/0WXOBVllOPk
LOCATION:K.3.201
SUMMARY:Homebrew: Features and Funding
CLASS:PUBLIC
DESCRIPTION:https://calendify.com/session/0WXOBVllOPk
DTSTAMP:20260422T090455Z
CREATED:20200513T234735Z
LAST-MODIFIED:20210426T093310Z
END:VEVENT
END:VCALENDAR