BEGIN:VCALENDAR
VERSION:2.0
PRODID:calendify.com
BEGIN:VEVENT
UID:calendify-session-0WXOBVwlOPk
DTSTART:20190530T200000Z
SEQUENCE:0
TRANSP:OPAQUE
DTEND:20190530T220000Z
URL:https://calendify.com/session/0WXOBVwlOPk
LOCATION:Lounge
SUMMARY:DNC
CLASS:PUBLIC
DESCRIPTION:https://calendify.com/session/0WXOBVwlOPk
DTSTAMP:20260424T082634Z
CREATED:20200509T115056Z
LAST-MODIFIED:20200509T115056Z
END:VEVENT
END:VCALENDAR