BEGIN:VCALENDAR
VERSION:2.0
PRODID:calendify.com
BEGIN:VEVENT
UID:calendify-session-0WXOBVyEOPk
DTSTART:20191229T175000Z
SEQUENCE:0
TRANSP:OPAQUE
DTEND:20191229T185000Z
URL:https://calendify.com/session/0WXOBVyEOPk
LOCATION:Eliza
SUMMARY:p2panda
CLASS:PUBLIC
DESCRIPTION:https://calendify.com/session/0WXOBVyEOPk
DTSTAMP:20260424T031738Z
CREATED:20200429T014122Z
LAST-MODIFIED:20200429T014122Z
END:VEVENT
END:VCALENDAR