BEGIN:VCALENDAR
VERSION:2.0
PRODID:calendify.com
BEGIN:VEVENT
UID:calendify-session-0WXOBo5qMPk
DTSTART:20210207T130500Z
SEQUENCE:0
TRANSP:OPAQUE
DTEND:20210207T132000Z
URL:https://calendify.com/session/0WXOBo5qMPk
LOCATION:D.composition
SUMMARY:OSS Review Toolkit - project update
CLASS:PUBLIC
DESCRIPTION:https://calendify.com/session/0WXOBo5qMPk
DTSTAMP:20260422T154117Z
CREATED:20210201T190823Z
LAST-MODIFIED:20210208T224803Z
END:VEVENT
END:VCALENDAR