BEGIN:VCALENDAR
VERSION:2.0
PRODID:calendify.com
BEGIN:VEVENT
UID:calendify-session-0WXOBo9jMPk
DTSTART:20210207T160000Z
SEQUENCE:0
TRANSP:OPAQUE
DTEND:20210207T162000Z
URL:https://calendify.com/session/0WXOBo9jMPk
LOCATION:D.design
SUMMARY:Pitch your project
CLASS:PUBLIC
DESCRIPTION:https://calendify.com/session/0WXOBo9jMPk
DTSTAMP:20260419T194638Z
CREATED:20210111T170320Z
LAST-MODIFIED:20210208T224804Z
END:VEVENT
END:VCALENDAR