BEGIN:VCALENDAR
VERSION:2.0
PRODID:calendify.com
BEGIN:VEVENT
UID:calendify-session-0WXOBoDlMPk
DTSTART:20210206T114500Z
SEQUENCE:0
TRANSP:OPAQUE
DTEND:20210206T123000Z
URL:https://calendify.com/session/0WXOBoDlMPk
LOCATION:D.apache.openoffice
SUMMARY:The localization process for Apache OpenOffice
CLASS:PUBLIC
DESCRIPTION:https://calendify.com/session/0WXOBoDlMPk
DTSTAMP:20260423T174011Z
CREATED:20210117T190818Z
LAST-MODIFIED:20210208T224802Z
END:VEVENT
END:VCALENDAR