BEGIN:VCALENDAR
VERSION:2.0
PRODID:calendify.com
BEGIN:VEVENT
UID:calendify-session-0WXOBoEbMPk
DTSTART:20210206T124500Z
SEQUENCE:0
TRANSP:OPAQUE
DTEND:20210206T131000Z
URL:https://calendify.com/session/0WXOBoEbMPk
LOCATION:D.rtc
SUMMARY:WebRTC shouldn't be this hard!
CLASS:PUBLIC
DESCRIPTION:https://calendify.com/session/0WXOBoEbMPk
DTSTAMP:20260420T203020Z
CREATED:20210113T115145Z
LAST-MODIFIED:20210208T224803Z
END:VEVENT
END:VCALENDAR