BEGIN:VCALENDAR
VERSION:2.0
PRODID:calendify.com
BEGIN:VEVENT
UID:calendify-session-0WXOBoKjMPk
DTSTART:20210207T122000Z
SEQUENCE:0
TRANSP:OPAQUE
DTEND:20210207T130000Z
URL:https://calendify.com/session/0WXOBoKjMPk
LOCATION:D.openjdk
SUMMARY:A Hitchhiker's Tour to Containerizing a Java application
CLASS:PUBLIC
DESCRIPTION:https://calendify.com/session/0WXOBoKjMPk
DTSTAMP:20260419T164702Z
CREATED:20210111T170320Z
LAST-MODIFIED:20210208T224804Z
END:VEVENT
END:VCALENDAR