BEGIN:VCALENDAR
VERSION:2.0
PRODID:calendify.com
BEGIN:VEVENT
UID:calendify-session-0WXOBoWeMPk
DTSTART:20210207T100000Z
SEQUENCE:0
TRANSP:OPAQUE
DTEND:20210207T110000Z
URL:https://calendify.com/session/0WXOBoWeMPk
LOCATION:M.misc
SUMMARY:A fresh look at toolchains in 2021
CLASS:PUBLIC
DESCRIPTION:https://calendify.com/session/0WXOBoWeMPk
DTSTAMP:20260419T182224Z
CREATED:20210120T190820Z
LAST-MODIFIED:20210208T224803Z
END:VEVENT
END:VCALENDAR