BEGIN:VCALENDAR
VERSION:2.0
PRODID:calendify.com
BEGIN:VEVENT
UID:calendify-session-0WXOBomNMPk
DTSTART:20210207T140500Z
SEQUENCE:0
TRANSP:OPAQUE
DTEND:20210207T143500Z
URL:https://calendify.com/session/0WXOBomNMPk
LOCATION:D.web.performance
SUMMARY:How to read a WebPageTest waterfall chart
CLASS:PUBLIC
DESCRIPTION:https://calendify.com/session/0WXOBomNMPk
DTSTAMP:20260423T121833Z
CREATED:20210111T170320Z
LAST-MODIFIED:20210208T224804Z
END:VEVENT
END:VCALENDAR