BEGIN:VCALENDAR
VERSION:2.0
PRODID:calendify.com
BEGIN:VEVENT
UID:calendify-session-0WXOBowEMPk
DTSTART:20210206T134500Z
SEQUENCE:0
TRANSP:OPAQUE
DTEND:20210206T144500Z
URL:https://calendify.com/session/0WXOBowEMPk
LOCATION:D.zig
SUMMARY:Zig: the perfect language for a wayland compositor?
CLASS:PUBLIC
DESCRIPTION:https://calendify.com/session/0WXOBowEMPk
DTSTAMP:20260419T164646Z
CREATED:20210111T170319Z
LAST-MODIFIED:20210208T224803Z
END:VEVENT
END:VCALENDAR