BEGIN:VCALENDAR
VERSION:2.0
PRODID:calendify.com
BEGIN:VEVENT
UID:calendify-session-0WXOBv2ROPk
DTSTART:20241227T100000Z
SEQUENCE:0
TRANSP:OPAQUE
DTEND:20241227T104000Z
URL:https://calendify.com/session/0WXOBv2ROPk
LOCATION:Stage YELL
SUMMARY:Breaking the Mirror – A Look at Apple’s New iPhone Remote Contr
 ol Feature
CLASS:PUBLIC
DESCRIPTION:https://calendify.com/session/0WXOBv2ROPk
DTSTAMP:20260426T033941Z
CREATED:20241227T141458Z
LAST-MODIFIED:20251019T194651Z
END:VEVENT
END:VCALENDAR