BEGIN:VCALENDAR
VERSION:2.0
PRODID:calendify.com
BEGIN:VEVENT
UID:calendify-session-0WXOBvRqOPk
DTSTART:20241228T150000Z
SEQUENCE:0
TRANSP:OPAQUE
DTEND:20241228T160000Z
URL:https://calendify.com/session/0WXOBvRqOPk
LOCATION:Saal GLITCH
SUMMARY:10 years of emulating the Nintendo 3DS: A tale of ninjas\, lemons\,
  and pandas
CLASS:PUBLIC
DESCRIPTION:https://calendify.com/session/0WXOBvRqOPk
DTSTAMP:20260419T140509Z
CREATED:20241208T214808Z
LAST-MODIFIED:20250101T225002Z
END:VEVENT
END:VCALENDAR