BEGIN:VCALENDAR
VERSION:2.0
PRODID:calendify.com
BEGIN:VEVENT
UID:calendify-session-0WXOBvv8OPk
DTSTART:20240921T093000Z
SEQUENCE:0
TRANSP:OPAQUE
DTEND:20240921T094500Z
URL:https://calendify.com/session/0WXOBvv8OPk
LOCATION:Henny Brenner Saal
SUMMARY:Opening
CLASS:PUBLIC
DESCRIPTION:https://calendify.com/session/0WXOBvv8OPk
DTSTAMP:20260422T140830Z
CREATED:20241208T220338Z
LAST-MODIFIED:20241208T220338Z
END:VEVENT
END:VCALENDAR