BEGIN:VCALENDAR
VERSION:2.0
PRODID:calendify.com
BEGIN:VEVENT
UID:calendify-session-0WXOBwJEMPk
DTSTART:20230903T104500Z
SEQUENCE:0
TRANSP:OPAQUE
DTEND:20230903T111500Z
URL:https://calendify.com/session/0WXOBwJEMPk
LOCATION:C120 - Arkanraum
SUMMARY:Automatisiertes und Optimiertes Fuzzing von .NET DLLs
CLASS:PUBLIC
DESCRIPTION:https://calendify.com/session/0WXOBwJEMPk
DTSTAMP:20260422T183104Z
CREATED:20240328T132702Z
LAST-MODIFIED:20240328T132702Z
END:VEVENT
END:VCALENDAR