BEGIN:VCALENDAR
VERSION:2.0
PRODID:calendify.com
BEGIN:VEVENT
UID:calendify-session-0WXOBwV8MPk
DTSTART:20230720T190000Z
SEQUENCE:0
TRANSP:OPAQUE
DTEND:20230720T200000Z
URL:https://calendify.com/session/0WXOBwV8MPk
LOCATION:Vortragsraum
SUMMARY:kombo quackfisch - LiveAct
CLASS:PUBLIC
DESCRIPTION:https://calendify.com/session/0WXOBwV8MPk
DTSTAMP:20260424T041459Z
CREATED:20230806T113705Z
LAST-MODIFIED:20230806T113705Z
END:VEVENT
END:VCALENDAR