BEGIN:VCALENDAR
VERSION:2.0
PRODID:calendify.com
BEGIN:VEVENT
UID:calendify-session-0WXOBwYbMPk
DTSTART:20231230T120000Z
SEQUENCE:0
TRANSP:OPAQUE
DTEND:20231230T143000Z
URL:https://calendify.com/session/0WXOBwYbMPk
LOCATION:Chaoswelle
SUMMARY:POTA – Parks on the Air [Day 4]
CLASS:PUBLIC
DESCRIPTION:https://calendify.com/session/0WXOBwYbMPk
DTSTAMP:20260423T030601Z
CREATED:20231218T013835Z
LAST-MODIFIED:20240401T142934Z
END:VEVENT
END:VCALENDAR