BEGIN:VCALENDAR
VERSION:2.0
PRODID:calendify.com
BEGIN:VEVENT
UID:calendify-session-0WXOBwZlMPk
DTSTART:20231228T180000Z
SEQUENCE:0
TRANSP:OPAQUE
DTEND:20231228T190000Z
URL:https://calendify.com/session/0WXOBwZlMPk
LOCATION:Saal E
SUMMARY:Don't Contribute Anything Relevant in Web Forums Like Reddit\, HN\,
  facebook\, ...
CLASS:PUBLIC
DESCRIPTION:https://calendify.com/session/0WXOBwZlMPk
DTSTAMP:20260423T030622Z
CREATED:20231224T230004Z
LAST-MODIFIED:20240401T142932Z
END:VEVENT
END:VCALENDAR