BEGIN:VCALENDAR
VERSION:2.0
PRODID:calendify.com
BEGIN:VEVENT
UID:calendify-session-0WXOBwlEMPk
DTSTART:20240530T190000Z
SEQUENCE:0
TRANSP:OPAQUE
DTEND:20240530T200000Z
URL:https://calendify.com/session/0WXOBwlEMPk
LOCATION:ZKM Medientheater
SUMMARY:Down the Parcel Hole
CLASS:PUBLIC
DESCRIPTION:https://calendify.com/session/0WXOBwlEMPk
DTSTAMP:20260424T052705Z
CREATED:20240531T122738Z
LAST-MODIFIED:20240602T132303Z
END:VEVENT
END:VCALENDAR