BEGIN:VCALENDAR
VERSION:2.0
PRODID:calendify.com
BEGIN:VEVENT
UID:calendify-session-0WXOBwrjMPk
DTSTART:20240531T191500Z
SEQUENCE:0
TRANSP:OPAQUE
DTEND:20240531T201500Z
URL:https://calendify.com/session/0WXOBwrjMPk
LOCATION:ZKM Vortragssaal
SUMMARY:Programmieren mit dem puren Lambda-Kalkül
CLASS:PUBLIC
DESCRIPTION:https://calendify.com/session/0WXOBwrjMPk
DTSTAMP:20260422T114017Z
CREATED:20240531T122740Z
LAST-MODIFIED:20240602T132303Z
END:VEVENT
END:VCALENDAR