BEGIN:VCALENDAR
VERSION:2.0
PRODID:calendify.com
BEGIN:VEVENT
UID:calendify-session-3v8gV13rMQl
DTSTART:20200202T094000Z
SEQUENCE:0
TRANSP:OPAQUE
DTEND:20200202T095500Z
URL:https://calendify.com/session/3v8gV13rMQl
LOCATION:K.4.601
SUMMARY:HelenOS in the Year of the Pig
CLASS:PUBLIC
DESCRIPTION:https://calendify.com/session/3v8gV13rMQl
DTSTAMP:20260420T133327Z
CREATED:20200513T234735Z
LAST-MODIFIED:20210426T093310Z
END:VEVENT
END:VCALENDAR