BEGIN:VCALENDAR
VERSION:2.0
PRODID:calendify.com
BEGIN:VEVENT
UID:calendify-session-3v8gV1GPMQl
DTSTART:20200202T083000Z
SEQUENCE:0
TRANSP:OPAQUE
DTEND:20200202T085000Z
URL:https://calendify.com/session/3v8gV1GPMQl
LOCATION:UD2.119
SUMMARY:Surfing the Tsunami - News from the IntelliJ IDEA Community
CLASS:PUBLIC
DESCRIPTION:https://calendify.com/session/3v8gV1GPMQl
DTSTAMP:20260422T194730Z
CREATED:20200513T234735Z
LAST-MODIFIED:20210426T093310Z
END:VEVENT
END:VCALENDAR