BEGIN:VCALENDAR
VERSION:2.0
PRODID:calendify.com
BEGIN:VEVENT
UID:calendify-session-3v8gV1rrMQl
DTSTART:20200202T085000Z
SEQUENCE:0
TRANSP:OPAQUE
DTEND:20200202T090000Z
URL:https://calendify.com/session/3v8gV1rrMQl
LOCATION:UA2.220 (Guillissen)
SUMMARY:SCION
CLASS:PUBLIC
DESCRIPTION:https://calendify.com/session/3v8gV1rrMQl
DTSTAMP:20260423T135021Z
CREATED:20200513T234735Z
LAST-MODIFIED:20210426T093310Z
END:VEVENT
END:VCALENDAR