BEGIN:VCALENDAR
VERSION:2.0
PRODID:calendify.com
BEGIN:VEVENT
UID:calendify-session-3v8gV1v8MQl
DTSTART:20190530T190000Z
SEQUENCE:0
TRANSP:OPAQUE
DTEND:20190530T200000Z
URL:https://calendify.com/session/3v8gV1v8MQl
LOCATION:ZKM_OpenHUB
SUMMARY:recheck and the Sorcerer's Stone: Turning Selenium into Adamantium
CLASS:PUBLIC
DESCRIPTION:https://calendify.com/session/3v8gV1v8MQl
DTSTAMP:20260422T023326Z
CREATED:20200509T115053Z
LAST-MODIFIED:20200509T115053Z
END:VEVENT
END:VCALENDAR