BEGIN:VCALENDAR
VERSION:2.0
PRODID:calendify.com
BEGIN:VEVENT
UID:calendify-session-3v8gV1x6MQl
DTSTART:20180511T170000Z
SEQUENCE:0
TRANSP:OPAQUE
DTEND:20180511T180000Z
URL:https://calendify.com/session/3v8gV1x6MQl
LOCATION:HfG_Studio
SUMMARY:Hacking relationships
CLASS:PUBLIC
DESCRIPTION:https://calendify.com/session/3v8gV1x6MQl
DTSTAMP:20260422T044451Z
CREATED:20200513T011827Z
LAST-MODIFIED:20200513T011827Z
END:VEVENT
END:VCALENDAR