BEGIN:VCALENDAR
VERSION:2.0
PRODID:calendify.com
BEGIN:VEVENT
UID:calendify-session-3v8gV1yVMQl
DTSTART:20191229T175000Z
SEQUENCE:0
TRANSP:OPAQUE
DTEND:20191229T185000Z
URL:https://calendify.com/session/3v8gV1yVMQl
LOCATION:Dijkstra
SUMMARY:Grow your own planet
CLASS:PUBLIC
DESCRIPTION:https://calendify.com/session/3v8gV1yVMQl
DTSTAMP:20260423T151315Z
CREATED:20200429T014118Z
LAST-MODIFIED:20200429T014118Z
END:VEVENT
END:VCALENDAR