BEGIN:VCALENDAR
VERSION:2.0
PRODID:calendify.com
BEGIN:VEVENT
UID:calendify-session-3v8gVPVzOQl
DTSTART:20171227T153000Z
SEQUENCE:0
TRANSP:OPAQUE
DTEND:20171227T163000Z
URL:https://calendify.com/session/3v8gVPVzOQl
LOCATION:Saal Borg
SUMMARY:Inside Intel Management Engine 
CLASS:PUBLIC
DESCRIPTION:https://calendify.com/session/3v8gVPVzOQl
DTSTAMP:20260421T034416Z
CREATED:20200625T113327Z
LAST-MODIFIED:20200625T113327Z
END:VEVENT
END:VCALENDAR