BEGIN:VCALENDAR
VERSION:2.0
PRODID:calendify.com
BEGIN:VEVENT
UID:calendify-session-3v8gVPo7OQl
DTSTART:20171228T130000Z
SEQUENCE:0
TRANSP:OPAQUE
DTEND:20171228T140000Z
URL:https://calendify.com/session/3v8gVPo7OQl
LOCATION:Saal Clarke
SUMMARY:Reverse engineering FPGAs
CLASS:PUBLIC
DESCRIPTION:https://calendify.com/session/3v8gVPo7OQl
DTSTAMP:20260424T081146Z
CREATED:20200625T113327Z
LAST-MODIFIED:20200625T113327Z
END:VEVENT
END:VCALENDAR