BEGIN:VCALENDAR
VERSION:2.0
PRODID:calendify.com
BEGIN:VEVENT
UID:calendify-session-3v8gVV1VgQl
DTSTART:20221228T120000Z
SEQUENCE:0
TRANSP:OPAQUE
DTEND:20221228T132500Z
URL:https://calendify.com/session/3v8gVV1VgQl
LOCATION:HIP - Track 2 - Room 2
SUMMARY:How my video game project is helping me learn tech and conquer my m
 ental health
CLASS:PUBLIC
DESCRIPTION:https://calendify.com/session/3v8gVV1VgQl
DTSTAMP:20260422T193417Z
CREATED:20221218T163040Z
LAST-MODIFIED:20221230T225002Z
END:VEVENT
END:VCALENDAR