BEGIN:VCALENDAR
VERSION:2.0
PRODID:calendify.com
BEGIN:VEVENT
UID:calendify-session-3v8gVVWzgQl
DTSTART:20221229T163000Z
SEQUENCE:0
TRANSP:OPAQUE
DTEND:20221229T190000Z
URL:https://calendify.com/session/3v8gVVWzgQl
LOCATION:Spezial Raum
SUMMARY:[In der Werkstatt im Hackcenter] Selbst ist das Merch!
CLASS:PUBLIC
DESCRIPTION:https://calendify.com/session/3v8gVVWzgQl
DTSTAMP:20260422T211501Z
CREATED:20221221T105639Z
LAST-MODIFIED:20221230T225006Z
END:VEVENT
END:VCALENDAR