BEGIN:VCALENDAR
VERSION:2.0
PRODID:calendify.com
BEGIN:VEVENT
UID:calendify-session-3v8gVVjjgQl
DTSTART:20221229T150000Z
SEQUENCE:0
TRANSP:OPAQUE
DTEND:20221229T163000Z
URL:https://calendify.com/session/3v8gVVjjgQl
LOCATION:Vortragsraum 1 - Ahlam - H2-1.6
SUMMARY:Ressourcen\, Finanzen\, Förderung: Von Staatsopern und Subkulturen
 \, der Kulturstaat im 21 Jrh.
CLASS:PUBLIC
DESCRIPTION:https://calendify.com/session/3v8gVVjjgQl
DTSTAMP:20260422T235154Z
CREATED:20221226T121008Z
LAST-MODIFIED:20221230T225007Z
END:VEVENT
END:VCALENDAR