BEGIN:VCALENDAR
VERSION:2.0
PRODID:calendify.com
BEGIN:VEVENT
UID:calendify-session-3v8gVVnQgQl
DTSTART:20230610T160000Z
SEQUENCE:0
TRANSP:OPAQUE
DTEND:20230610T183000Z
URL:https://calendify.com/session/3v8gVVnQgQl
LOCATION:Raum 112 (HFG)
SUMMARY:Learn to Solder / Digital Music Synthesis workshop with ArduTouch m
 usic synthesizer kit
CLASS:PUBLIC
DESCRIPTION:https://calendify.com/session/3v8gVVnQgQl
DTSTAMP:20260422T155652Z
CREATED:20230604T134036Z
LAST-MODIFIED:20230611T215002Z
END:VEVENT
END:VCALENDAR