BEGIN:VCALENDAR
VERSION:2.0
PRODID:calendify.com
BEGIN:VEVENT
UID:calendify-session-3v8gVW1r4Ql
DTSTART:20210312T144500Z
SEQUENCE:0
TRANSP:OPAQUE
DTEND:20210312T154500Z
URL:https://calendify.com/session/3v8gVW1r4Ql
LOCATION:Zoom Room 3B
SUMMARY:Speculating Narratives on Futures of AI Wellness
CLASS:PUBLIC
DESCRIPTION:https://calendify.com/session/3v8gVW1r4Ql
DTSTAMP:20260423T140207Z
CREATED:20210426T094928Z
LAST-MODIFIED:20210426T094928Z
END:VEVENT
END:VCALENDAR