BEGIN:VCALENDAR
VERSION:2.0
PRODID:calendify.com
BEGIN:VEVENT
UID:calendify-session-3v8gVW5P4Ql
DTSTART:20220205T162500Z
SEQUENCE:0
TRANSP:OPAQUE
DTEND:20220205T170000Z
URL:https://calendify.com/session/3v8gVW5P4Ql
LOCATION:D.go
SUMMARY:The State of Go
CLASS:PUBLIC
DESCRIPTION:https://calendify.com/session/3v8gVW5P4Ql
DTSTAMP:20260420T105132Z
CREATED:20220120T214602Z
LAST-MODIFIED:20220206T225002Z
END:VEVENT
END:VCALENDAR