BEGIN:VCALENDAR
VERSION:2.0
PRODID:calendify.com
BEGIN:VEVENT
UID:calendify-session-3v8gVWK74Ql
DTSTART:20211229T203000Z
SEQUENCE:0
TRANSP:OPAQUE
DTEND:20211229T213000Z
URL:https://calendify.com/session/3v8gVWK74Ql
LOCATION:ChaosZone TV
SUMMARY:„Pandemic Robot Orchestra“ (PaRoO\, hindu: Sun\, Fire\, Grace\,
  Flow)
CLASS:PUBLIC
DESCRIPTION:https://calendify.com/session/3v8gVWK74Ql
DTSTAMP:20260422T194800Z
CREATED:20211220T014017Z
LAST-MODIFIED:20211229T112002Z
END:VEVENT
END:VCALENDAR