BEGIN:VCALENDAR
VERSION:2.0
PRODID:calendify.com
BEGIN:VEVENT
UID:calendify-session-3v8gVWPr4Ql
DTSTART:20210313T183000Z
SEQUENCE:0
TRANSP:OPAQUE
DTEND:20210313T193000Z
URL:https://calendify.com/session/3v8gVWPr4Ql
LOCATION:Zoom Room 4A
SUMMARY:Misinformation Escape Room
CLASS:PUBLIC
DESCRIPTION:https://calendify.com/session/3v8gVWPr4Ql
DTSTAMP:20260420T173600Z
CREATED:20210426T094928Z
LAST-MODIFIED:20210426T094928Z
END:VEVENT
END:VCALENDAR