BEGIN:VCALENDAR
VERSION:2.0
PRODID:calendify.com
BEGIN:VEVENT
UID:calendify-session-3v8gVWQV4Ql
DTSTART:20220206T110000Z
SEQUENCE:0
TRANSP:OPAQUE
DTEND:20220206T114500Z
URL:https://calendify.com/session/3v8gVWQV4Ql
LOCATION:D.graphics
SUMMARY:The status of turnip driver development.
CLASS:PUBLIC
DESCRIPTION:https://calendify.com/session/3v8gVWQV4Ql
DTSTAMP:20260422T191710Z
CREATED:20220120T214606Z
LAST-MODIFIED:20220206T225004Z
END:VEVENT
END:VCALENDAR