BEGIN:VCALENDAR
VERSION:2.0
PRODID:calendify.com
BEGIN:VEVENT
UID:calendify-session-3v8gVWVp4Ql
DTSTART:20210317T191500Z
SEQUENCE:0
TRANSP:OPAQUE
DTEND:20210317T201500Z
URL:https://calendify.com/session/3v8gVWVp4Ql
LOCATION:Spatial Chat / Social 1
SUMMARY:POV: After Hours
CLASS:PUBLIC
DESCRIPTION:https://calendify.com/session/3v8gVWVp4Ql
DTSTAMP:20260420T153654Z
CREATED:20210426T094929Z
LAST-MODIFIED:20210426T094929Z
END:VEVENT
END:VCALENDAR