BEGIN:VCALENDAR
VERSION:2.0
PRODID:calendify.com
BEGIN:VEVENT
UID:calendify-session-3v8gVWX84Ql
DTSTART:20211229T150500Z
SEQUENCE:0
TRANSP:OPAQUE
DTEND:20211229T171900Z
URL:https://calendify.com/session/3v8gVWX84Ql
LOCATION:Abchillgleis
SUMMARY:Evelyn
CLASS:PUBLIC
DESCRIPTION:https://calendify.com/session/3v8gVWX84Ql
DTSTAMP:20260422T100037Z
CREATED:20211227T091002Z
LAST-MODIFIED:20211230T225002Z
END:VEVENT
END:VCALENDAR