BEGIN:VCALENDAR
VERSION:2.0
PRODID:calendify.com
BEGIN:VEVENT
UID:calendify-session-3v8gVWaz4Ql
DTSTART:20211227T150000Z
SEQUENCE:0
TRANSP:OPAQUE
DTEND:20211227T154500Z
URL:https://calendify.com/session/3v8gVWaz4Ql
LOCATION:Chaosstudio Hamburg
SUMMARY:40 Jahre TUWAT
CLASS:PUBLIC
DESCRIPTION:https://calendify.com/session/3v8gVWaz4Ql
DTSTAMP:20260420T235611Z
CREATED:20211220T014016Z
LAST-MODIFIED:20211230T225002Z
END:VEVENT
END:VCALENDAR