BEGIN:VCALENDAR
VERSION:2.0
PRODID:calendify.com
BEGIN:VEVENT
UID:calendify-session-3v8gVWdQ4Ql
DTSTART:20210521T125000Z
SEQUENCE:0
TRANSP:OPAQUE
DTEND:20210521T132000Z
URL:https://calendify.com/session/3v8gVWdQ4Ql
LOCATION:TINCON
SUMMARY:Auf ein Puzzle mit Mirella Precek und Tim Heinke
CLASS:PUBLIC
DESCRIPTION:https://calendify.com/session/3v8gVWdQ4Ql
DTSTAMP:20260420T185057Z
CREATED:20210513T100319Z
LAST-MODIFIED:20210524T215002Z
END:VEVENT
END:VCALENDAR