BEGIN:VCALENDAR
VERSION:2.0
PRODID:calendify.com
BEGIN:VEVENT
UID:calendify-session-3v8gVWjQ4Ql
DTSTART:20210520T123500Z
SEQUENCE:0
TRANSP:OPAQUE
DTEND:20210520T123600Z
URL:https://calendify.com/session/3v8gVWjQ4Ql
LOCATION:Kanal 1
SUMMARY:Deine Minute Pause beim Festival
CLASS:PUBLIC
DESCRIPTION:https://calendify.com/session/3v8gVWjQ4Ql
DTSTAMP:20260423T005231Z
CREATED:20210510T145032Z
LAST-MODIFIED:20210524T215002Z
END:VEVENT
END:VCALENDAR