BEGIN:VCALENDAR
VERSION:2.0
PRODID:calendify.com
BEGIN:VEVENT
UID:calendify-session-3v8gVWkQ4Ql
DTSTART:20220206T144500Z
SEQUENCE:0
TRANSP:OPAQUE
DTEND:20220206T151000Z
URL:https://calendify.com/session/3v8gVWkQ4Ql
LOCATION:D.distributions
SUMMARY:DOs and DON'Ts when building a Yocto based distribution
CLASS:PUBLIC
DESCRIPTION:https://calendify.com/session/3v8gVWkQ4Ql
DTSTAMP:20260420T094714Z
CREATED:20220120T214606Z
LAST-MODIFIED:20220206T225003Z
END:VEVENT
END:VCALENDAR