BEGIN:VCALENDAR
VERSION:2.0
PRODID:calendify.com
BEGIN:VEVENT
UID:calendify-session-3v8gVWo64Ql
DTSTART:20210522T153500Z
SEQUENCE:0
TRANSP:OPAQUE
DTEND:20210522T155000Z
URL:https://calendify.com/session/3v8gVWo64Ql
LOCATION:Kanal 1
SUMMARY:HUSTLETOLOGY
CLASS:PUBLIC
DESCRIPTION:https://calendify.com/session/3v8gVWo64Ql
DTSTAMP:20260423T010314Z
CREATED:20210505T232421Z
LAST-MODIFIED:20210524T215002Z
END:VEVENT
END:VCALENDAR